BEGIN:VCALENDAR
VERSION:2.0
PRODID:-//Squarespace Inc/Squarespace 6//v6//EN
BEGIN:VEVENT
UID:614fb38c78b23513f5f8646e@squarespace.com
DTSTAMP:20210927T234435Z
DTSTART:20210130T013000Z
DTEND:20210130T020000Z
SUMMARY:Jesus Cleanses a Leper
END:VEVENT
END:VCALENDAR
