BEGIN:VCALENDAR
VERSION:2.0
PRODID:-//Squarespace Inc/Squarespace 6//v6//EN
BEGIN:VEVENT
UID:614fb3d369b7b655e76dbca6@squarespace.com
DTSTAMP:20210927T234310Z
DTSTART:20210227T013000Z
DTEND:20210227T020000Z
SUMMARY:Jesus and the Rich Young Ruler
END:VEVENT
END:VCALENDAR
