BEGIN:VCALENDAR
VERSION:2.0
PRODID:-//Squarespace Inc/Squarespace 6//v6//EN
BEGIN:VEVENT
UID:614fb46d3b4d06469d87cdc6@squarespace.com
DTSTAMP:20210927T234644Z
DTSTART:20210123T013000Z
DTEND:20210123T020000Z
SUMMARY:Jesus and the First Disciples
END:VEVENT
END:VCALENDAR
