BEGIN:VCALENDAR
VERSION:2.0
PRODID:-//Squarespace Inc/Squarespace 6//v6//EN
BEGIN:VEVENT
UID:614fb4d32033390328895e81@squarespace.com
DTSTAMP:20210927T234911Z
DTSTART:20210104T010000Z
DTEND:20210104T030000Z
SUMMARY:January AYMx Monthly
END:VEVENT
END:VCALENDAR
