BEGIN:VCALENDAR
VERSION:2.0
PRODID:-//Squarespace Inc/Squarespace 6//v6//EN
BEGIN:VEVENT
UID:614fb516eed9f9528431254e@squarespace.com
DTSTAMP:20210927T164602Z
DTSTART:20200523T000000Z
DTEND:20200523T010000Z
SUMMARY:Interpraise
END:VEVENT
END:VCALENDAR
