BEGIN:VCALENDAR
VERSION:2.0
PRODID:-//Squarespace Inc/Squarespace 6//v6//EN
BEGIN:VEVENT
UID:614fb569f05e93389b27d92e@squarespace.com
DTSTAMP:20210927T164534Z
DTSTART:20200530T000000Z
DTEND:20200530T010000Z
SUMMARY:Interpraise
END:VEVENT
END:VCALENDAR
