BEGIN:VCALENDAR
VERSION:2.0
PRODID:-//Squarespace Inc/Squarespace 6//v6//EN
BEGIN:VEVENT
UID:614fa44500ba934b3c1296e1@squarespace.com
DTSTAMP:20210927T235702Z
DTSTART:20201031T001500Z
DTEND:20201031T004500Z
SUMMARY:Halloween Hangout
END:VEVENT
END:VCALENDAR
