BEGIN:VCALENDAR
VERSION:2.0
PRODID:-//Squarespace Inc/Squarespace 6//v6//EN
BEGIN:VEVENT
UID:614fbbabb021c549abe0d981@squarespace.com
DTSTAMP:20210927T235448Z
DTSTART:20201114T183000Z
DTEND:20201114T190000Z
SUMMARY:Gratitude as the Lens
END:VEVENT
END:VCALENDAR
