BEGIN:VCALENDAR
VERSION:2.0
PRODID:-//Squarespace Inc/Squarespace 6//v6//EN
BEGIN:VEVENT
UID:614fbb604310b860b15b1529@squarespace.com
DTSTAMP:20210927T164811Z
DTSTART:20200515T003000Z
DTEND:20200515T013000Z
SUMMARY:Game Night!
END:VEVENT
END:VCALENDAR
