BEGIN:VCALENDAR
VERSION:2.0
PRODID:-//Squarespace Inc/Squarespace 6//v6//EN
BEGIN:VEVENT
UID:614fbbf6d448400716cdc675@squarespace.com
DTSTAMP:20210927T235349Z
DTSTART:20201128T011500Z
DTEND:20201128T014500Z
SUMMARY:Friendsgiving Hot Cocoa Hangout
END:VEVENT
END:VCALENDAR
