BEGIN:VCALENDAR
VERSION:2.0
PRODID:-//Squarespace Inc/Squarespace 6//v6//EN
BEGIN:VEVENT
UID:614fb91f210575166931d06e@squarespace.com
DTSTAMP:20210928T000027Z
DTSTART:20200530T000000Z
DTEND:20200530T003000Z
SUMMARY:Friend Bingo Bore-d
END:VEVENT
END:VCALENDAR
