BEGIN:VCALENDAR
VERSION:2.0
PRODID:-//Squarespace Inc/Squarespace 6//v6//EN
BEGIN:VEVENT
UID:614fbb24c151b16e5342c55a@squarespace.com
DTSTAMP:20210927T234806Z
DTSTART:20210116T013000Z
DTEND:20210116T020000Z
SUMMARY:Friday Night Thrive Kickoff
END:VEVENT
END:VCALENDAR
