BEGIN:VCALENDAR
VERSION:2.0
PRODID:-//Squarespace Inc/Squarespace 6//v6//EN
BEGIN:VEVENT
UID:614fbab6f05e93389b281b8f@squarespace.com
DTSTAMP:20210927T221258Z
DTSTART:20210724T003000Z
DTEND:20210724T010000Z
SUMMARY:Friday Night Thrive Jackbox Night
END:VEVENT
END:VCALENDAR
