BEGIN:VCALENDAR
VERSION:2.0
PRODID:-//Squarespace Inc/Squarespace 6//v6//EN
BEGIN:VEVENT
UID:614fa1a284f9e26f3e454bd1@squarespace.com
DTSTAMP:20210927T164227Z
DTSTART:20200813T000000Z
DTEND:20200813T010000Z
SUMMARY:Freshman Small Group
END:VEVENT
END:VCALENDAR
