BEGIN:VCALENDAR
VERSION:2.0
PRODID:-//Squarespace Inc/Squarespace 6//v6//EN
BEGIN:VEVENT
UID:614fabb6db27015246aef9f8@squarespace.com
DTSTAMP:20210927T235949Z
DTSTART:20200808T170000Z
DTEND:20200815T000000Z
SUMMARY:FOCUS2020
END:VEVENT
END:VCALENDAR
