BEGIN:VCALENDAR
VERSION:2.0
PRODID:-//Squarespace Inc/Squarespace 6//v6//EN
BEGIN:VEVENT
UID:6163d33c138ae55f257110af@squarespace.com
DTSTAMP:20211011T060515Z
DTSTART:20211016T000000Z
DTEND:20211016T020000Z
SUMMARY:FOCUS Monthly: MORE
END:VEVENT
END:VCALENDAR
