BEGIN:VCALENDAR
VERSION:2.0
PRODID:-//Squarespace Inc/Squarespace 6//v6//EN
BEGIN:VEVENT
UID:614fba6e00ba934b3c13691f@squarespace.com
DTSTAMP:20210927T234201Z
DTSTART:20210311T010000Z
DTEND:20210311T020000Z
SUMMARY:FOCUS Monthly: March 2021
END:VEVENT
END:VCALENDAR
