BEGIN:VCALENDAR
VERSION:2.0
PRODID:-//Squarespace Inc/Squarespace 6//v6//EN
BEGIN:VEVENT
UID:614fba0f1f1991246ea20add@squarespace.com
DTSTAMP:20210927T155535Z
DTSTART:20210605T003000Z
DTEND:20210605T013000Z
SUMMARY:FOCUS Monthly June 2021
END:VEVENT
END:VCALENDAR
