BEGIN:VCALENDAR
VERSION:2.0
PRODID:-//Squarespace Inc/Squarespace 6//v6//EN
BEGIN:VEVENT
UID:614fb972e5fdea5d0a645a19@squarespace.com
DTSTAMP:20210927T160042Z
DTSTART:20210501T003000Z
DTEND:20210501T013000Z
SUMMARY:FOCUS Monthly: April 2021
END:VEVENT
END:VCALENDAR
