BEGIN:VCALENDAR
VERSION:2.0
PRODID:-//Squarespace Inc/Squarespace 6//v6//EN
BEGIN:VEVENT
UID:614fb88eb021c549abe0bd52@squarespace.com
DTSTAMP:20210927T233527Z
DTSTART:20210529T003000Z
DTEND:20210529T010000Z
SUMMARY:FNT Senior Night
END:VEVENT
END:VCALENDAR
