BEGIN:VCALENDAR
VERSION:2.0
PRODID:-//Squarespace Inc/Squarespace 6//v6//EN
BEGIN:VEVENT
UID:614faccf20333903288904c8@squarespace.com
DTSTAMP:20210927T220956Z
DTSTART:20210918T040000Z
DTEND:20210918T050000Z
SUMMARY:Find Hope: Fall Kickoff
END:VEVENT
END:VCALENDAR
