BEGIN:VCALENDAR
VERSION:2.0
PRODID:-//Squarespace Inc/Squarespace 6//v6//EN
BEGIN:VEVENT
UID:614fa6af09dc287f04784c11@squarespace.com
DTSTAMP:20210927T160442Z
DTSTART:20210402T020000Z
DTEND:20210402T030000Z
SUMMARY:Easter Stream
END:VEVENT
END:VCALENDAR
