BEGIN:VCALENDAR
VERSION:2.0
PRODID:-//Squarespace Inc/Squarespace 6//v6//EN
BEGIN:VEVENT
UID:614fb2aad448400716cd6bbe@squarespace.com
DTSTAMP:20210927T234254Z
DTSTART:20210306T013000Z
DTEND:20210306T020000Z
SUMMARY:Did Jesus Exist?
END:VEVENT
END:VCALENDAR
