BEGIN:VCALENDAR
VERSION:2.0
PRODID:-//Squarespace Inc/Squarespace 6//v6//EN
BEGIN:VEVENT
UID:614fb6e66bfbca0dd16a7590@squarespace.com
DTSTAMP:20210926T003100Z
DTSTART:20201212T180000Z
DTEND:20201212T200000Z
SUMMARY:December AYMx Monthly
END:VEVENT
END:VCALENDAR
