BEGIN:VCALENDAR
VERSION:2.0
PRODID:-//Squarespace Inc/Squarespace 6//v6//EN
BEGIN:VEVENT
UID:614fb63cc59ffa6574cbd1ae@squarespace.com
DTSTAMP:20211009T044931Z
DTSTART:20211113T170000Z
DTEND:20211114T000000Z
SUMMARY:Dare 2 Share LIVE 2021
END:VEVENT
END:VCALENDAR
