BEGIN:VCALENDAR
VERSION:2.0
PRODID:-//Squarespace Inc/Squarespace 6//v6//EN
BEGIN:VEVENT
UID:6345dcfee89083762a642f0e@squarespace.com
DTSTAMP:20221113T224802Z
DTSTART:20221112T170000Z
DTEND:20221113T000000Z
SUMMARY:Dare 2 Share 
END:VEVENT
END:VCALENDAR
