BEGIN:VCALENDAR
VERSION:2.0
PRODID:-//Squarespace Inc/Squarespace 6//v6//EN
BEGIN:VEVENT
UID:614fa0f40e64f47eb7ed7c9c@squarespace.com
DTSTAMP:20210927T235518Z
DTSTART:20201107T020000Z
DTEND:20201107T023000Z
SUMMARY:Connect Group!
END:VEVENT
END:VCALENDAR
