BEGIN:VCALENDAR
VERSION:2.0
PRODID:-//Squarespace Inc/Squarespace 6//v6//EN
BEGIN:VEVENT
UID:614fb48bd448400716cd7a0d@squarespace.com
DTSTAMP:20210927T235031Z
DTSTART:20201225T011500Z
DTEND:20201225T014500Z
SUMMARY:Connect Christmas Hangout
END:VEVENT
END:VCALENDAR
