BEGIN:VCALENDAR
VERSION:2.0
PRODID:-//Squarespace Inc/Squarespace 6//v6//EN
BEGIN:VEVENT
UID:614fb3b72a80e646d35d1140@squarespace.com
DTSTAMP:20210927T234237Z
DTSTART:20210307T020000Z
DTEND:20210307T033000Z
SUMMARY:College Readiness Webinar
END:VEVENT
END:VCALENDAR
