BEGIN:VCALENDAR
VERSION:2.0
PRODID:-//Squarespace Inc/Squarespace 6//v6//EN
BEGIN:VEVENT
UID:6161be2631cd267880622fca@squarespace.com
DTSTAMP:20211015T163951Z
DTSTART:20211023T150000Z
DTEND:20211023T200000Z
SUMMARY:College Readiness Seminar
END:VEVENT
END:VCALENDAR
