BEGIN:VCALENDAR
VERSION:2.0
PRODID:-//Squarespace Inc/Squarespace 6//v6//EN
BEGIN:VEVENT
UID:614fb30ee97dea2a9403afb7@squarespace.com
DTSTAMP:20210926T002655Z
DTSTART:20210508T200000Z
DTEND:20210508T210000Z
SUMMARY:College Bound '22 Part 2
END:VEVENT
END:VCALENDAR
