BEGIN:VCALENDAR
VERSION:2.0
PRODID:-//Squarespace Inc/Squarespace 6//v6//EN
BEGIN:VEVENT
UID:615499dc3960ea50145dba50@squarespace.com
DTSTAMP:20210929T165626Z
DTSTART:20211009T000000Z
DTEND:20211017T003000Z
SUMMARY:College App Workshops
END:VEVENT
END:VCALENDAR
