BEGIN:VCALENDAR
VERSION:2.0
PRODID:-//Squarespace Inc/Squarespace 6//v6//EN
BEGIN:VEVENT
UID:614fbcc13b63df511642e335@squarespace.com
DTSTAMP:20210927T161926Z
DTSTART:20201219T033000Z
DTEND:20201219T043000Z
SUMMARY:Christmas Stream
END:VEVENT
END:VCALENDAR
