BEGIN:VCALENDAR
VERSION:2.0
PRODID:-//Squarespace Inc/Squarespace 6//v6//EN
BEGIN:VEVENT
UID:614f9b683b63df5116414ea9@squarespace.com
DTSTAMP:20210927T233736Z
DTSTART:20210508T003000Z
DTEND:20210508T010000Z
SUMMARY:1 Corinthians 13: The Way of Love
END:VEVENT
END:VCALENDAR
