BEGIN:VCALENDAR
VERSION:2.0
PRODID:-//Squarespace Inc/Squarespace 6//v6//EN
BEGIN:VEVENT
UID:630ebe967e8994794e240aa2@squarespace.com
DTSTAMP:20220911T191854Z
DTSTART:20220917T020000Z
DTEND:20220917T040000Z
SUMMARY:Bay Area September AYM Monthly
END:VEVENT
END:VCALENDAR
