BEGIN:VCALENDAR
VERSION:2.0
PRODID:-//Squarespace Inc/Squarespace 6//v6//EN
BEGIN:VEVENT
UID:628cfd6044cb564afab23e97@squarespace.com
DTSTAMP:20220615T215042Z
DTSTART:20220617T003000Z
DTEND:20220617T030000Z
SUMMARY:Bay Area Good News Event
END:VEVENT
END:VCALENDAR
