BEGIN:VCALENDAR
VERSION:2.0
PRODID:-//Squarespace Inc/Squarespace 6//v6//EN
BEGIN:VEVENT
UID:614fbc4e2a80e646d35d68dd@squarespace.com
DTSTAMP:20210927T233634Z
DTSTART:20210515T170000Z
DTEND:20210515T190000Z
SUMMARY:AYMx Monthly: May
END:VEVENT
END:VCALENDAR
