BEGIN:VCALENDAR
VERSION:2.0
PRODID:-//Squarespace Inc/Squarespace 6//v6//EN
BEGIN:VEVENT
UID:614fbb6d203339032889a799@squarespace.com
DTSTAMP:20210927T160111Z
DTSTART:20210424T170000Z
DTEND:20210425T000000Z
SUMMARY:AYMx Monthly: April
END:VEVENT
END:VCALENDAR
