BEGIN:VCALENDAR
VERSION:2.0
PRODID:-//Squarespace Inc/Squarespace 6//v6//EN
BEGIN:VEVENT
UID:614fbb13fd39bc4c39df5d18@squarespace.com
DTSTAMP:20210927T235754Z
DTSTART:20201017T032000Z
DTEND:20201017T034500Z
SUMMARY:AYMx Kickoff
END:VEVENT
END:VCALENDAR
