BEGIN:VCALENDAR
VERSION:2.0
PRODID:-//Squarespace Inc/Squarespace 6//v6//EN
BEGIN:VEVENT
UID:614fba5ca101dd20187aac2d@squarespace.com
DTSTAMP:20210927T234012Z
DTSTART:20210321T070000Z
DTEND:20210405T065500Z
SUMMARY:AYMx Easter
END:VEVENT
END:VCALENDAR
