BEGIN:VCALENDAR
VERSION:2.0
PRODID:-//Squarespace Inc/Squarespace 6//v6//EN
BEGIN:VEVENT
UID:645ff1ac0aea2d3a1100bd13@squarespace.com
DTSTAMP:20230612T204803Z
DTSTART:20230624T020000Z
DTEND:20230626T220000Z
SUMMARY:AYM West Coast Middle School Summer Camp
GEO:37.728041;-122.234102
LOCATION:1275 Harbor Bay Parkway\, Alameda\, CA\, 94502\, United States
END:VEVENT
END:VCALENDAR
