BEGIN:VCALENDAR
VERSION:2.0
PRODID:-//Squarespace Inc/Squarespace 6//v6//EN
BEGIN:VEVENT
UID:614fa795b7f6100ba9af51f1@squarespace.com
DTSTAMP:20210927T155928Z
DTSTART:20210513T000000Z
DTEND:20210513T010000Z
SUMMARY:AYM Spring Showcase
END:VEVENT
END:VCALENDAR
