BEGIN:VCALENDAR
VERSION:2.0
PRODID:-//Squarespace Inc/Squarespace 6//v6//EN
BEGIN:VEVENT
UID:622e63110696395c7c9e1db0@squarespace.com
DTSTAMP:20220313T213559Z
DTSTART:20220317T003000Z
DTEND:20220317T013000Z
SUMMARY:AYM Special Talks #1: Science and Faith
END:VEVENT
END:VCALENDAR
