BEGIN:VCALENDAR
VERSION:2.0
PRODID:-//Squarespace Inc/Squarespace 6//v6//EN
BEGIN:VEVENT
UID:624879e2013cee284acdcc9f@squarespace.com
DTSTAMP:20220402T163316Z
DTSTART:20220407T003000Z
DTEND:20220407T013000Z
SUMMARY:AYM Special Talk #2: Case for the Resurrection
END:VEVENT
END:VCALENDAR
