BEGIN:VCALENDAR
VERSION:2.0
PRODID:-//Squarespace Inc/Squarespace 6//v6//EN
BEGIN:VEVENT
UID:614fa729e5fdea5d0a637b29@squarespace.com
DTSTAMP:20210927T221234Z
DTSTART:20210726T043000Z
DTEND:20210730T063000Z
SUMMARY:AYM Malaysia Summer Mission Trip
END:VEVENT
END:VCALENDAR
