BEGIN:VCALENDAR
VERSION:2.0
PRODID:-//Squarespace Inc/Squarespace 6//v6//EN
BEGIN:VEVENT
UID:645d60c0c16ff84da5fdb75c@squarespace.com
DTSTAMP:20230612T204846Z
DTSTART:20230712T003000Z
DTEND:20230715T033000Z
SUMMARY:AYM Sports &amp\; Leadership Camp
GEO:37.728041;-122.234102
LOCATION:1275 Harbor Bay Parkway\, Alameda\, CA\, 94502\, United States
END:VEVENT
END:VCALENDAR
