BEGIN:VCALENDAR
VERSION:2.0
PRODID:-//Squarespace Inc/Squarespace 6//v6//EN
BEGIN:VEVENT
UID:6240e2672920a362a9bc419a@squarespace.com
DTSTAMP:20220722T032553Z
DTSTART:20220613T160000Z
DTEND:20220617T003000Z
SUMMARY:AYM Leadership Camp
END:VEVENT
END:VCALENDAR
