BEGIN:VCALENDAR
VERSION:2.0
PRODID:-//Squarespace Inc/Squarespace 6//v6//EN
BEGIN:VEVENT
UID:614fb9da203339032889915c@squarespace.com
DTSTAMP:20210927T164435Z
DTSTART:20200604T023000Z
DTEND:20200604T033000Z
SUMMARY:AYM End-of-Year Celebration
END:VEVENT
END:VCALENDAR
