BEGIN:VCALENDAR
VERSION:2.0
PRODID:-//Squarespace Inc/Squarespace 6//v6//EN
BEGIN:VEVENT
UID:614fa647584bbf02bcc196f4@squarespace.com
DTSTAMP:20210927T235056Z
DTSTART:20201222T010000Z
DTEND:20201222T013000Z
SUMMARY:AYM Connect X Games Kickoff
END:VEVENT
END:VCALENDAR
