BEGIN:VCALENDAR
VERSION:2.0
PRODID:-//Squarespace Inc/Squarespace 6//v6//EN
BEGIN:VEVENT
UID:614fa389b479b276ec6923a8@squarespace.com
DTSTAMP:20210927T234852Z
DTSTART:20210109T011500Z
DTEND:20210109T014500Z
SUMMARY:AYM Connect Group
END:VEVENT
END:VCALENDAR
